BEGIN:VCALENDAR
VERSION:2.0
PRODID:-//Sabre//Sabre VObject 4.5.8//EN
CALSCALE:GREGORIAN
BEGIN:VEVENT
UID:sabre-vobject-cee59d40-8cf8-4d1d-b992-0e49c0fe6a8a
DTSTAMP:20260421T083235Z
SUMMARY:Abmarsch zur Fußwallfahrt nach Holzburg
DESCRIPTION:https://pg-baindlkirch.bistum-augsburg-portal.de/abmarsch-zur-f
 usswallfahrt-nach-holzburg_id1744706
DTSTART;TZID=Europe/Berlin:20260501T064500
DURATION:PT30M
LOCATION:St. Martin
END:VEVENT
END:VCALENDAR
